Package: sincell Version: 1.42.0 Command: /Library/Frameworks/R.framework/Resources/bin/R CMD INSTALL sincell StartedAt: 2025-10-30 15:04:16 -0400 (Thu, 30 Oct 2025) EndedAt: 2025-10-30 15:04:28 -0400 (Thu, 30 Oct 2025) EllapsedTime: 11.8 seconds RetCode: 0 Status: OK