Package: sincell Version: 1.42.0 Command: /Library/Frameworks/R.framework/Resources/bin/R CMD build --keep-empty-dirs --no-resave-data sincell StartedAt: 2025-10-30 17:46:18 -0400 (Thu, 30 Oct 2025) EndedAt: 2025-10-30 17:47:43 -0400 (Thu, 30 Oct 2025) EllapsedTime: 85.0 seconds RetCode: 0 Status: OK PackageFile: sincell_1.42.0.tar.gz PackageFileSize: 1.187 MiB