Package: sincell Version: 1.42.0 Command: rm -rf sincell.buildbin-libdir && mkdir sincell.buildbin-libdir && /Users/biocbuild/BBS/utils/build-universal.sh sincell_1.42.0.tar.gz /Library/Frameworks/R.framework/Resources/bin/R sincell.buildbin-libdir StartedAt: 2025-10-31 23:24:07 -0400 (Fri, 31 Oct 2025) EndedAt: 2025-10-31 23:24:15 -0400 (Fri, 31 Oct 2025) EllapsedTime: 8.2 seconds RetCode: 0 Status: OK PackageFile: sincell_1.42.0.tgz PackageFileSize: 1.304 MiB