Package: simplifyEnrichment Version: 2.4.0 Command: /home/biocbuild/R/R/bin/R CMD INSTALL simplifyEnrichment StartedAt: 2025-11-13 21:56:37 -0000 (Thu, 13 Nov 2025) EndedAt: 2025-11-13 21:57:00 -0000 (Thu, 13 Nov 2025) EllapsedTime: 22.8 seconds RetCode: 0 Status: OK