Package: simplifyEnrichment Version: 2.4.0 Command: /home/biocbuild/bbs-3.22-bioc/R/bin/R CMD INSTALL simplifyEnrichment StartedAt: 2025-11-11 15:47:57 -0500 (Tue, 11 Nov 2025) EndedAt: 2025-11-11 15:48:15 -0500 (Tue, 11 Nov 2025) EllapsedTime: 17.3 seconds RetCode: 0 Status: OK