Package: simplifyEnrichment Version: 2.2.0 Command: /home/biocbuild/bbs-3.21-bioc/R/bin/R CMD INSTALL simplifyEnrichment StartedAt: 2025-10-05 15:42:55 -0400 (Sun, 05 Oct 2025) EndedAt: 2025-10-05 15:43:12 -0400 (Sun, 05 Oct 2025) EllapsedTime: 17.2 seconds RetCode: 0 Status: OK