Package: simplifyEnrichment Version: 2.2.0 Command: /home/biocbuild/bbs-3.21-bioc/R/bin/R CMD build --keep-empty-dirs --no-resave-data simplifyEnrichment StartedAt: 2025-10-05 19:58:07 -0400 (Sun, 05 Oct 2025) EndedAt: 2025-10-05 19:58:26 -0400 (Sun, 05 Oct 2025) EllapsedTime: 19.0 seconds RetCode: 0 Status: OK PackageFile: simplifyEnrichment_2.2.0.tar.gz PackageFileSize: 1.025 MiB