Package: simplifyEnrichment Version: 2.2.0 Command: /Library/Frameworks/R.framework/Resources/bin/R CMD build --keep-empty-dirs --no-resave-data simplifyEnrichment StartedAt: 2025-04-21 18:28:58 -0400 (Mon, 21 Apr 2025) EndedAt: 2025-04-21 18:29:20 -0400 (Mon, 21 Apr 2025) EllapsedTime: 22.9 seconds RetCode: 0 Status: OK PackageFile: simplifyEnrichment_2.2.0.tar.gz PackageFileSize: 1.025 MiB