Package: simplifyEnrichment Version: 2.2.0 Command: /Library/Frameworks/R.framework/Resources/bin/R CMD INSTALL simplifyEnrichment StartedAt: 2025-10-02 17:46:29 -0400 (Thu, 02 Oct 2025) EndedAt: 2025-10-02 17:46:49 -0400 (Thu, 02 Oct 2025) EllapsedTime: 19.7 seconds RetCode: 0 Status: OK