Package: simpleSeg Version: 1.12.0 Command: /home/biocbuild/bbs-3.22-bioc/R/bin/R CMD INSTALL simpleSeg StartedAt: 2025-11-11 15:41:03 -0500 (Tue, 11 Nov 2025) EndedAt: 2025-11-11 15:41:51 -0500 (Tue, 11 Nov 2025) EllapsedTime: 47.9 seconds RetCode: 0 Status: OK