Package: simpleSeg Version: 1.12.0 Command: /home/biocbuild/bbs-3.22-bioc/R/bin/R CMD check --install=check:simpleSeg.install-out.txt --library=/home/biocbuild/bbs-3.22-bioc/R/site-library --timings simpleSeg_1.12.0.tar.gz StartedAt: 2025-11-14 04:14:13 -0500 (Fri, 14 Nov 2025) EndedAt: 2025-11-14 04:23:12 -0500 (Fri, 14 Nov 2025) EllapsedTime: 539.4 seconds RetCode: 0 Status: OK CheckDir: simpleSeg.Rcheck Warnings: 0