Package: simpleSeg Version: 1.12.0 Command: /home/biocbuild/bbs-3.22-bioc/R/bin/R CMD build --keep-empty-dirs --no-resave-data --md5 simpleSeg StartedAt: 2025-11-11 20:15:37 -0500 (Tue, 11 Nov 2025) EndedAt: 2025-11-11 20:18:24 -0500 (Tue, 11 Nov 2025) EllapsedTime: 167.2 seconds RetCode: 0 Status: OK PackageFile: simpleSeg_1.12.0.tar.gz PackageFileSize: 4.547 MiB