Package: simpleSeg Version: 1.12.0 Command: /Library/Frameworks/R.framework/Resources/bin/R CMD INSTALL simpleSeg StartedAt: 2025-10-30 15:33:24 -0400 (Thu, 30 Oct 2025) EndedAt: 2025-10-30 15:34:30 -0400 (Thu, 30 Oct 2025) EllapsedTime: 65.4 seconds RetCode: 0 Status: OK