Package: simpleSeg Version: 1.12.0 Command: rm -rf simpleSeg.buildbin-libdir && mkdir simpleSeg.buildbin-libdir && /Users/biocbuild/BBS/utils/build-universal.sh simpleSeg_1.12.0.tar.gz /Library/Frameworks/R.framework/Resources/bin/R simpleSeg.buildbin-libdir StartedAt: 2025-10-31 01:48:55 -0400 (Fri, 31 Oct 2025) EndedAt: 2025-10-31 01:50:10 -0400 (Fri, 31 Oct 2025) EllapsedTime: 74.8 seconds RetCode: 0 Status: OK PackageFile: simpleSeg_1.12.0.tgz PackageFileSize: 4.695 MiB