Package: simpleSeg Version: 1.10.1 Command: /home/biocbuild/R/R/bin/R CMD INSTALL simpleSeg StartedAt: 2025-10-02 20:52:04 -0000 (Thu, 02 Oct 2025) EndedAt: 2025-10-02 20:53:13 -0000 (Thu, 02 Oct 2025) EllapsedTime: 68.1 seconds RetCode: 0 Status: OK