Package: simpleSeg Version: 1.10.1 Command: /home/biocbuild/R/R/bin/R CMD build --keep-empty-dirs --no-resave-data simpleSeg StartedAt: 2025-10-03 04:41:27 -0000 (Fri, 03 Oct 2025) EndedAt: 2025-10-03 04:46:03 -0000 (Fri, 03 Oct 2025) EllapsedTime: 276.1 seconds RetCode: 0 Status: OK PackageFile: simpleSeg_1.10.1.tar.gz PackageFileSize: 4.56 MiB