Package: simpleSeg Version: 1.10.0 Command: /Library/Frameworks/R.framework/Resources/bin/R CMD build --keep-empty-dirs --no-resave-data simpleSeg StartedAt: 2025-04-21 17:41:04 -0400 (Mon, 21 Apr 2025) EndedAt: 2025-04-21 17:42:09 -0400 (Mon, 21 Apr 2025) EllapsedTime: 64.8 seconds RetCode: 0 Status: OK PackageFile: simpleSeg_1.10.0.tar.gz PackageFileSize: 4.775 MiB