Package: simpleSeg Version: 1.12.0 Maintainer: Ellis Patrick MaintainerEmail: ellis.patrick at sydney.edu.au git_url: https://git.bioconductor.org/packages/simpleSeg git_branch: RELEASE_3_22 git_last_commit: 2b63ec0 git_last_commit_date: 2025-10-29 11:19:44 -0400 (Wed, 29 Oct 2025)