Package: similaRpeak Version: 1.40.0 Command: /home/biocbuild/R/R/bin/R CMD build --keep-empty-dirs --no-resave-data similaRpeak StartedAt: 2025-10-14 04:44:38 -0000 (Tue, 14 Oct 2025) EndedAt: 2025-10-14 04:45:13 -0000 (Tue, 14 Oct 2025) EllapsedTime: 35.0 seconds RetCode: 0 Status: OK PackageFile: similaRpeak_1.40.0.tar.gz PackageFileSize: 1.976 MiB