Package: similaRpeak Version: 1.42.0 Command: /Library/Frameworks/R.framework/Resources/bin/R CMD build --keep-empty-dirs --no-resave-data similaRpeak StartedAt: 2025-10-31 17:49:35 -0400 (Fri, 31 Oct 2025) EndedAt: 2025-10-31 17:49:46 -0400 (Fri, 31 Oct 2025) EllapsedTime: 11.1 seconds RetCode: 0 Status: OK PackageFile: similaRpeak_1.42.0.tar.gz PackageFileSize: 2.145 MiB