Package: similaRpeak Version: 1.42.0 Command: rm -rf similaRpeak.buildbin-libdir && mkdir similaRpeak.buildbin-libdir && /Users/biocbuild/BBS/utils/build-universal.sh similaRpeak_1.42.0.tar.gz /Library/Frameworks/R.framework/Resources/bin/R similaRpeak.buildbin-libdir StartedAt: 2025-10-31 23:24:05 -0400 (Fri, 31 Oct 2025) EndedAt: 2025-10-31 23:24:08 -0400 (Fri, 31 Oct 2025) EllapsedTime: 3.1 seconds RetCode: 0 Status: OK PackageFile: similaRpeak_1.42.0.tgz PackageFileSize: 2.382 MiB