Package: simPIC Version: 1.6.0 Command: /home/biocbuild/R/R/bin/R CMD INSTALL simPIC StartedAt: 2025-11-10 21:32:20 -0000 (Mon, 10 Nov 2025) EndedAt: 2025-11-10 21:32:53 -0000 (Mon, 10 Nov 2025) EllapsedTime: 33.3 seconds RetCode: 0 Status: OK