Package: simPIC Version: 1.6.0 Command: /home/biocbuild/R/R/bin/R CMD build --keep-empty-dirs --no-resave-data simPIC StartedAt: 2025-11-14 05:25:27 -0000 (Fri, 14 Nov 2025) EndedAt: 2025-11-14 05:28:18 -0000 (Fri, 14 Nov 2025) EllapsedTime: 171.1 seconds RetCode: 0 Status: OK PackageFile: simPIC_1.6.0.tar.gz PackageFileSize: 5.046 MiB