Package: simPIC Version: 1.6.0 Command: /home/biocbuild/bbs-3.22-bioc/R/bin/R CMD build --keep-empty-dirs --no-resave-data --md5 simPIC StartedAt: 2025-11-11 20:15:13 -0500 (Tue, 11 Nov 2025) EndedAt: 2025-11-11 20:17:38 -0500 (Tue, 11 Nov 2025) EllapsedTime: 145.1 seconds RetCode: 0 Status: OK PackageFile: simPIC_1.6.0.tar.gz PackageFileSize: 5.208 MiB