Package: simPIC Version: 1.4.0 Command: /Library/Frameworks/R.framework/Resources/bin/R CMD INSTALL simPIC StartedAt: 2025-10-09 15:43:00 -0400 (Thu, 09 Oct 2025) EndedAt: 2025-10-09 15:43:51 -0400 (Thu, 09 Oct 2025) EllapsedTime: 51.4 seconds RetCode: 0 Status: OK