Package: simPIC Version: 1.4.0 Command: rm -rf simPIC.buildbin-libdir && mkdir simPIC.buildbin-libdir && /Users/biocbuild/BBS/utils/build-universal.sh simPIC_1.4.0.tar.gz /Library/Frameworks/R.framework/Resources/bin/R simPIC.buildbin-libdir StartedAt: 2025-10-10 14:49:18 -0400 (Fri, 10 Oct 2025) EndedAt: 2025-10-10 14:50:18 -0400 (Fri, 10 Oct 2025) EllapsedTime: 59.9 seconds RetCode: 0 Status: OK PackageFile: simPIC_1.4.0.tgz PackageFileSize: 2.361 MiB