Package: sigsquared Version: 1.42.0 Command: /home/biocbuild/bbs-3.22-bioc/R/bin/R CMD build --keep-empty-dirs --no-resave-data --md5 sigsquared StartedAt: 2025-11-13 20:12:40 -0500 (Thu, 13 Nov 2025) EndedAt: 2025-11-13 20:13:01 -0500 (Thu, 13 Nov 2025) EllapsedTime: 21.0 seconds RetCode: 0 Status: OK PackageFile: sigsquared_1.42.0.tar.gz PackageFileSize: 442.6 KiB