Package: signifinder Version: 1.12.0 Command: /home/biocbuild/bbs-3.22-bioc/R/bin/R CMD INSTALL signifinder StartedAt: 2025-11-14 16:03:22 -0500 (Fri, 14 Nov 2025) EndedAt: 2025-11-14 16:04:19 -0500 (Fri, 14 Nov 2025) EllapsedTime: 56.8 seconds RetCode: 0 Status: OK