Package: signeR Version: 2.12.0 Command: /home/biocbuild/bbs-3.22-bioc/R/bin/R CMD check --install=check:signeR.install-out.txt --library=/home/biocbuild/bbs-3.22-bioc/R/site-library --timings signeR_2.12.0.tar.gz StartedAt: 2025-11-21 04:41:12 -0500 (Fri, 21 Nov 2025) EndedAt: 2025-11-21 04:52:24 -0500 (Fri, 21 Nov 2025) EllapsedTime: 671.6 seconds RetCode: 0 Status: OK CheckDir: signeR.Rcheck Warnings: 0