Package: signeR Version: 2.12.0 Command: /Library/Frameworks/R.framework/Resources/bin/R CMD INSTALL signeR StartedAt: 2025-11-03 15:50:34 -0500 (Mon, 03 Nov 2025) EndedAt: 2025-11-03 15:52:27 -0500 (Mon, 03 Nov 2025) EllapsedTime: 112.6 seconds RetCode: 0 Status: OK