Package: signeR Version: 2.12.0 Command: /Library/Frameworks/R.framework/Resources/bin/R CMD build --keep-empty-dirs --no-resave-data signeR StartedAt: 2025-11-03 18:48:27 -0500 (Mon, 03 Nov 2025) EndedAt: 2025-11-03 18:53:56 -0500 (Mon, 03 Nov 2025) EllapsedTime: 328.8 seconds RetCode: 0 Status: OK PackageFile: signeR_2.12.0.tar.gz PackageFileSize: 2.413 MiB