Package: signeR Version: 2.12.0 Command: rm -rf signeR.buildbin-libdir && mkdir signeR.buildbin-libdir && /Users/biocbuild/BBS/utils/build-universal.sh signeR_2.12.0.tar.gz /Library/Frameworks/R.framework/Resources/bin/R signeR.buildbin-libdir StartedAt: 2025-11-04 02:04:47 -0500 (Tue, 04 Nov 2025) EndedAt: 2025-11-04 02:06:46 -0500 (Tue, 04 Nov 2025) EllapsedTime: 118.8 seconds RetCode: 0 Status: OK PackageFile: signeR_2.12.0.tgz PackageFileSize: 2.508 MiB