Package: signeR Version: 2.10.0 Command: /home/biocbuild/R/R/bin/R CMD INSTALL signeR StartedAt: 2025-10-13 21:11:55 -0000 (Mon, 13 Oct 2025) EndedAt: 2025-10-13 21:14:02 -0000 (Mon, 13 Oct 2025) EllapsedTime: 127.0 seconds RetCode: 0 Status: OK