Package: signatureSearch Version: 1.22.0 Command: /home/biocbuild/bbs-3.21-bioc/R/bin/R CMD build --keep-empty-dirs --no-resave-data signatureSearch StartedAt: 2025-10-15 19:55:13 -0400 (Wed, 15 Oct 2025) EndedAt: 2025-10-15 20:07:13 -0400 (Wed, 15 Oct 2025) EllapsedTime: 719.7 seconds RetCode: 0 Status: OK PackageFile: signatureSearch_1.22.0.tar.gz PackageFileSize: 5.221 MiB