Package: signatureSearch Version: 1.22.0 Command: /home/biocbuild/R/R/bin/R CMD INSTALL signatureSearch StartedAt: 2025-10-02 21:06:52 -0000 (Thu, 02 Oct 2025) EndedAt: 2025-10-02 21:09:22 -0000 (Thu, 02 Oct 2025) EllapsedTime: 150.0 seconds RetCode: 0 Status: OK