Package: signatureSearch Version: 1.22.0 Command: /home/biocbuild/R/R/bin/R CMD build --keep-empty-dirs --no-resave-data signatureSearch StartedAt: 2025-10-03 04:39:46 -0000 (Fri, 03 Oct 2025) EndedAt: 2025-10-03 05:03:55 -0000 (Fri, 03 Oct 2025) EllapsedTime: 1449.4 seconds RetCode: 0 Status: OK PackageFile: signatureSearch_1.22.0.tar.gz PackageFileSize: 5.341 MiB