Package: signatureSearch Version: 1.22.0 Command: /Library/Frameworks/R.framework/Resources/bin/R CMD INSTALL signatureSearch StartedAt: 2025-04-21 15:24:45 -0400 (Mon, 21 Apr 2025) EndedAt: 2025-04-21 15:25:29 -0400 (Mon, 21 Apr 2025) EllapsedTime: 43.8 seconds RetCode: 0 Status: OK