Package: signatureSearch Version: 1.22.0 Command: rm -rf signatureSearch.buildbin-libdir && mkdir signatureSearch.buildbin-libdir && /Users/biocbuild/BBS/utils/build-universal.sh signatureSearch_1.22.0.tar.gz /Library/Frameworks/R.framework/Resources/bin/R signatureSearch.buildbin-libdir StartedAt: 2025-04-21 22:52:39 -0400 (Mon, 21 Apr 2025) EndedAt: 2025-04-21 22:53:27 -0400 (Mon, 21 Apr 2025) EllapsedTime: 48.1 seconds RetCode: 0 Status: OK PackageFile: signatureSearch_1.22.0.tgz PackageFileSize: 85.24 MiB