Package: signatureSearch Version: 1.22.0 Command: rm -rf signatureSearch.buildbin-libdir && mkdir signatureSearch.buildbin-libdir && /Users/biocbuild/BBS/utils/build-universal.sh signatureSearch_1.22.0.tar.gz /Library/Frameworks/R.framework/Resources/bin/R signatureSearch.buildbin-libdir StartedAt: 2025-10-15 20:32:19 -0400 (Wed, 15 Oct 2025) EndedAt: 2025-10-15 20:34:44 -0400 (Wed, 15 Oct 2025) EllapsedTime: 145.2 seconds RetCode: 0 Status: OK PackageFile: signatureSearch_1.22.0.tgz PackageFileSize: 85.23 MiB