Package: signatureSearch Version: 1.24.0 Maintainer: Brendan Gongol MaintainerEmail: bgong001 at ucr.edu git_url: https://git.bioconductor.org/packages/signatureSearch git_branch: RELEASE_3_22 git_last_commit: ce6ab95 git_last_commit_date: 2025-10-29 10:55:44 -0400 (Wed, 29 Oct 2025)