Package: sights Version: 1.36.0 Command: /home/biocbuild/bbs-3.22-bioc/R/bin/R CMD INSTALL sights StartedAt: 2025-11-14 15:09:15 -0500 (Fri, 14 Nov 2025) EndedAt: 2025-11-14 15:09:43 -0500 (Fri, 14 Nov 2025) EllapsedTime: 28.2 seconds RetCode: 0 Status: OK