Package: sights Version: 1.36.0 Command: /home/biocbuild/bbs-3.22-bioc/R/bin/R CMD build --keep-empty-dirs --no-resave-data --md5 sights StartedAt: 2025-11-14 20:13:28 -0500 (Fri, 14 Nov 2025) EndedAt: 2025-11-14 20:14:09 -0500 (Fri, 14 Nov 2025) EllapsedTime: 41.0 seconds RetCode: 0 Status: OK PackageFile: sights_1.36.0.tar.gz PackageFileSize: 5.396 MiB