Package: siggenes Version: 1.84.0 Command: /home/biocbuild/bbs-3.22-bioc/R/bin/R CMD INSTALL siggenes StartedAt: 2025-11-14 15:13:42 -0500 (Fri, 14 Nov 2025) EndedAt: 2025-11-14 15:13:54 -0500 (Fri, 14 Nov 2025) EllapsedTime: 11.6 seconds RetCode: 0 Status: OK