Package: sigFeature Version: 1.28.0 Command: /home/biocbuild/R/R/bin/R CMD INSTALL sigFeature StartedAt: 2025-11-13 21:28:54 -0000 (Thu, 13 Nov 2025) EndedAt: 2025-11-13 21:29:28 -0000 (Thu, 13 Nov 2025) EllapsedTime: 33.2 seconds RetCode: 0 Status: OK