Package: sigFeature Version: 1.28.0 Command: /home/biocbuild/bbs-3.22-bioc/R/bin/R CMD INSTALL sigFeature StartedAt: 2025-11-13 15:21:58 -0500 (Thu, 13 Nov 2025) EndedAt: 2025-11-13 15:22:23 -0500 (Thu, 13 Nov 2025) EllapsedTime: 25.3 seconds RetCode: 0 Status: OK