Package: sigFeature Version: 1.26.0 Command: rm -rf sigFeature.buildbin-libdir && mkdir sigFeature.buildbin-libdir && /Users/biocbuild/BBS/utils/build-universal.sh sigFeature_1.26.0.tar.gz /Library/Frameworks/R.framework/Resources/bin/R sigFeature.buildbin-libdir StartedAt: 2025-10-07 14:33:53 -0400 (Tue, 07 Oct 2025) EndedAt: 2025-10-07 14:35:03 -0400 (Tue, 07 Oct 2025) EllapsedTime: 70.4 seconds RetCode: 0 Status: OK PackageFile: sigFeature_1.26.0.tgz PackageFileSize: 502 KiB