Package: sigFeature Version: 1.26.0 Command: /home/biocbuild/R/R/bin/R CMD INSTALL sigFeature StartedAt: 2025-09-25 20:35:18 -0000 (Thu, 25 Sep 2025) EndedAt: 2025-09-25 20:35:55 -0000 (Thu, 25 Sep 2025) EllapsedTime: 37.1 seconds RetCode: 0 Status: OK