Package: sigFeature Version: 1.26.0 Command: /home/biocbuild/R/R/bin/R CMD build --keep-empty-dirs --no-resave-data sigFeature StartedAt: 2025-09-26 05:59:42 -0000 (Fri, 26 Sep 2025) EndedAt: 2025-09-26 06:00:35 -0000 (Fri, 26 Sep 2025) EllapsedTime: 53.0 seconds RetCode: 0 Status: OK PackageFile: sigFeature_1.26.0.tar.gz PackageFileSize: 355.5 KiB