Package: sigFeature Version: 1.26.0 Command: rm -rf sigFeature.buildbin-libdir && mkdir sigFeature.buildbin-libdir && /Users/biocbuild/BBS/utils/build-universal.sh sigFeature_1.26.0.tar.gz /Library/Frameworks/R.framework/Resources/bin/R sigFeature.buildbin-libdir StartedAt: 2025-04-21 22:52:34 -0400 (Mon, 21 Apr 2025) EndedAt: 2025-04-21 22:52:46 -0400 (Mon, 21 Apr 2025) EllapsedTime: 12.3 seconds RetCode: 0 Status: OK PackageFile: sigFeature_1.26.0.tgz PackageFileSize: 503.3 KiB