Package: shinyepico Version: 1.18.0 Command: /home/biocbuild/bbs-3.22-bioc/R/bin/R CMD check --install=check:shinyepico.install-out.txt --library=/home/biocbuild/bbs-3.22-bioc/R/site-library --timings shinyepico_1.18.0.tar.gz StartedAt: 2025-11-15 04:22:19 -0500 (Sat, 15 Nov 2025) EndedAt: 2025-11-15 04:25:09 -0500 (Sat, 15 Nov 2025) EllapsedTime: 169.2 seconds RetCode: 0 Status: OK CheckDir: shinyepico.Rcheck Warnings: 0